Workbook

Sheet APCS Global Audit Planning Tool
B2: APCS Global Audit Planning Tool | Z2: FALSE
B3: Current Date | E3: Audit Cycle Start/End | Z3: FALSE
B4: GSG Participant Organization Information | Z4: FALSE
B5: Organization Name | E5: Contact Email Address | Z5: FALSE
B6: Contact Name | E6: Contact Job Role | Z6: FALSE
B7: Participant Identified Plant Biotechnology Operations | Z7: FALSE
B8: Please indicate all the plant biotechnology operations performed at your organization under each geographic region. These operations will be subject to the Global Stewardship Audit. | Z8: FALSE
C9: USA & Canada | D9: Latin America | E9: Europe | F9: Middle East/Africa | G9: Asia/Pacific | Z9: FALSE
B10: Headquarters | Z10: FALSE
B11: Laboratory | Z11: FALSE
B12: Containment Facility | Z12: FALSE
B13: Confined Field Trials | Z13: FALSE
B14: Seed/Plant Multiplication | Z14: FALSE
B15: Commercial Seed/Plant Distribution | Z15: FALSE
B16: Product Launch | Z16: FALSE
B17: Product Discontinuation | Z17: FALSE
B18: Insect Resistance Management | Z18: FALSE
B19: Click Here to Input Audit Plan | Z19: FALSE
Z20: FALSE
Z21: FALSE
Z22: FALSE
Z23: FALSE
Z24: FALSE
Z25: FALSE
Z26: FALSE
Z27: FALSE
Z28: FALSE
Z29: FALSE
Z30: FALSE
Z31: FALSE
... Z46: FALSE

Sheet APCS Audit Plan
B2: APCS Audit Plan
B3: Step 1a: Please check your organization's region of Primary Activity, a region required to be audited. | G3: USA & Canada | I3: FALSE | J3: CLICK TO RETURN TO FIRST PAGE
G4: Latin America | I4: FALSE
B5: Step 1b: Does your organization have activities in a second region (yes/no)? If "yes", choose and check an additional region to be audited and proceed to Step 1c. If "no", proceed to Step 2. | G5: Europe | I5: FALSE
G6: Middle East/Africa | I6: FALSE
B7: Step 1c: Does your organization have activities in a third region (yes/no)? If "yes", check the "Flex Audit" box. Proceed to Step 2. | G7: Asia/Pacific | I7: FALSE
G8: Flex Audit | I8: FALSE
B9: Step 2: Fill out the green highlighted cells below with approximate location, quarter, and year (e.g. Washington | 1 | 2024) of your organization's planned audits. The highlighted cells are based on your Member Identified Plant Biotechnology Operations on the first page. The "Flex Audit" is intended to be representative of all global operations. It can be an additional significant region of activity or a combination of countries and of activity regardless of region. (note: all activities under "Flex Audit" will be highlighted, fill out only those representative of your organization's global operations). A Flex Audit that does not reflect the scope and scale of the participant’s operations will not be accepted by the GSG Executive Director. This is a draft that can be updated by contacting GSG.
B10: USA & Canada | F10: Latin America | J10: Europe
C11: Location | D11: Quarter | E11: Year | G11: Location | H11: Quarter | I11: Year | K11: Location | L11: Quarter | M11: Year
B12: General Stewardship (Headquarters) | F12: General Stewardship (Headquarters) | J12: General Stewardship (Headquarters)
B13: Incident Response (Headquarters) | F13: Incident Response (Headquarters) | J13: Incident Response (Headquarters)
B14: Maintaining Plant Product Integrity | F14: Maintaining Plant Product Integrity | J14: Maintaining Plant Product Integrity
B15: Laboratory | F15: Laboratory | J15: Laboratory
B16: Containment Facility | F16: Containment Facility | J16: Containment Facility
B17: Confined Field Trials | F17: Confined Field Trials | J17: Confined Field Trials
B18: Seed/Plant Multiplication | F18: Seed/Plant Multiplication | J18: Seed/Plant Multiplication
B19: Commercial Seed/Plant Distribution | F19: Commercial Seed/Plant Distribution | J19: Commercial Seed/Plant Distribution | O19: GSG Global Audit Planning Tool
B20: Product Launch | F20: Product Launch | J20: Product Launch
B21: Product Discontinuation | F21: Product Discontinuation | J21: Product Discontinuation
B22: Insect Resistance Management | F22: Insect Resistance Management | J22: Insect Resistance Management
B23: Middle East/Africa | F23: Asia/Pacific | J23: Flex Audit (any additional region or countries)
C24: Location | D24: Quarter | E24: Year | G24: Location | H24: Quarter | I24: Year | K24: Location | L24: Quarter | M24: Year
B25: General Stewardship (Headquarters) | F25: General Stewardship (Headquarters) | J25: General Stewardship (Headquarters)
B26: Incident Response (Headquarters) | F26: Incident Response (Headquarters) | J26: Incident Response (Headquarters)
B27: Maintaining Plant Product Integrity | F27: Maintaining Plant Product Integrity | J27: Maintaining Plant Product Integrity
B28: Laboratory | F28: Laboratory | J28: Laboratory
B29: Containment Facility | F29: Containment Facility | J29: Containment Facility
B30: Confined Field Trials | F30: Confined Field Trials | J30: Confined Field Trials
B31: Seed/Plant Multiplication | F31: Seed/Plant Multiplication | J31: Seed/Plant Multiplication
B32: Commercial Seed/Plant Distribution | F32: Commercial Seed/Plant Distribution | J32: Commercial Seed/Plant Distribution
B33: Product Launch | F33: Product Launch | J33: Product Launch
B34: Product Discontinuation | F34: Product Discontinuation | J34: Product Discontinuation
B35: Insect Resistance Management | F35: Insect Resistance Management | J35: Insect Resistance Management

Sheet ETS Internal Use
B3: ETS Audit Plan
B4: Instructions: Fill out the green highlighted cells below with the approximate location and date of your organization's planned audit. Note that if more than 3 regions are highlighted green please choose your regions of primary activity and 2 additional regions to be audited. This is a draft that can be updated by contacting ETS. | K4: CLICK TO RETURN TO FIRST PAGE
B5: Regions (3 max): | C5: USA & Canada | F5: Latin America | I5: Europe | L5: Middle East/Africa | O5: Asia/Pacific
C6: Location | D6: Quarter | E6: Year | F6: Location | G6: Quarter | H6: Year | I6: Location | J6: Quarter | K6: Year | L6: Location | M6: Quarter | N6: Year | O6: Location | P6: Quarter | Q6: Year
B7: General Stewardship (Headquarters) | C7: FALSE | D7: =C7 -> FALSE | E7: =C7 -> FALSE | F7: FALSE | G7: =F7 -> FALSE | H7: =F7 -> FALSE | I7: FALSE | J7: =I7 -> FALSE | K7: =I7 -> FALSE | L7: FALSE | M7: =L7 -> FALSE | N7: =L7 -> FALSE | O7: FALSE | P7: =O7 -> FALSE | Q7: =O7 -> FALSE
B8: Incident Response (Headquarters) | C8: =C7 -> FALSE | D8: =C8 -> FALSE | E8: =C8 -> FALSE | F8: =F7 -> FALSE | G8: =F8 -> FALSE | H8: =F8 -> FALSE | I8: =I7 -> FALSE | J8: =I8 -> FALSE | K8: =I8 -> FALSE | L8: =L7 -> FALSE | M8: =L8 -> FALSE | N8: =L8 -> FALSE | O8: =O7 -> FALSE | P8: =O8 -> FALSE | Q8: =O7 -> FALSE
B9: Laboratory | C9: FALSE | D9: =C9 -> FALSE | E9: =C9 -> FALSE | F9: FALSE | G9: =F9 -> FALSE | H9: =F9 -> FALSE | I9: FALSE | J9: =I9 -> FALSE | K9: =I9 -> FALSE | L9: FALSE | M9: =L9 -> FALSE | N9: =L9 -> FALSE | O9: FALSE | P9: =O9 -> FALSE | Q9: =O9 -> FALSE
B10: Containment Facility | C10: FALSE | D10: =C10 -> FALSE | E10: =C10 -> FALSE | F10: FALSE | G10: =F10 -> FALSE | H10: =F10 -> FALSE | I10: FALSE | J10: =I10 -> FALSE | K10: =I10 -> FALSE | L10: FALSE | M10: =L10 -> FALSE | N10: =L10 -> FALSE | O10: FALSE | P10: =O10 -> FALSE | Q10: =O10 -> FALSE
B11: Confined Field Trials | C11: FALSE | D11: =C11 -> FALSE | E11: =C11 -> FALSE | F11: FALSE | G11: =F11 -> FALSE | H11: =F11 -> FALSE | I11: FALSE | J11: =I11 -> FALSE | K11: =I11 -> FALSE | L11: FALSE | M11: =L11 -> FALSE | N11: =L11 -> FALSE | O11: FALSE | P11: =O11 -> FALSE | Q11: =O11 -> FALSE
B12: Seed/Plant Production | C12: FALSE | D12: =C12 -> FALSE | E12: =C12 -> FALSE | F12: FALSE | G12: =F12 -> FALSE | H12: =F12 -> FALSE | I12: FALSE | J12: =I12 -> FALSE | K12: =I12 -> FALSE | L12: FALSE | M12: =L12 -> FALSE | N12: =L12 -> FALSE | O12: FALSE | P12: =O12 -> FALSE | Q12: =O12 -> FALSE
B13: Commercial Plant/Seed Distribution | C13: FALSE | D13: =C13 -> FALSE | E13: =C13 -> FALSE | F13: FALSE | G13: =F13 -> FALSE | H13: =F13 -> FALSE | I13: FALSE | J13: =I13 -> FALSE | K13: =I13 -> FALSE | L13: FALSE | M13: =L13 -> FALSE | N13: =L13 -> FALSE | O13: FALSE | P13: =O13 -> FALSE | Q13: =O13 -> FALSE
B14: Product Launch | C14: FALSE | D14: =C14 -> FALSE | E14: =C14 -> FALSE | F14: FALSE | G14: =F14 -> FALSE | H14: =F14 -> FALSE | I14: FALSE | J14: =I14 -> FALSE | K14: =I14 -> FALSE | L14: FALSE | M14: =L14 -> FALSE | N14: =L14 -> FALSE | O14: FALSE | P14: =O14 -> FALSE | Q14: =O14 -> FALSE
B15: Product Discontinuation | C15: FALSE | D15: =C15 -> FALSE | E15: =C15 -> FALSE | F15: FALSE | G15: =F15 -> FALSE | H15: =F15 -> FALSE | I15: FALSE | J15: =I15 -> FALSE | K15: =I15 -> FALSE | L15: FALSE | M15: =L15 -> FALSE | N15: =L15 -> FALSE | O15: FALSE | P15: =O15 -> FALSE | Q15: =O15 -> FALSE
B16: Resistance Management | C16: FALSE | D16: =C16 -> FALSE | E16: =C16 -> FALSE | F16: FALSE | G16: =F16 -> FALSE | H16: =F16 -> FALSE | I16: FALSE | J16: =I16 -> FALSE | K16: =I16 -> FALSE | L16: FALSE | M16: =L16 -> FALSE | N16: =L16 -> FALSE | O16: FALSE | P16: =O16 -> FALSE | Q16: =O16 -> FALSE
C19: USA & Canada | F19: Latin America | I19: Europe | L19: Middle East/Africa | O19: Asia/Pacific
C20: Location | D20: Quarter | E20: Year | F20: Location | G20: Quarter | H20: Year | I20: Location | J20: Quarter | K20: Year | L20: Location | M20: Quarter | N20: Year | O20: Location | P20: Quarter | Q20: Year
B21: General Stewardship (Headquarters) | C21: =IF(AND(C7,'APCS Audit Plan'!$I$3), "Input Needed"," ") | D21: =IF(AND(E7,'APCS Audit Plan'!$I$3), "Input Needed"," ") | E21: =IF(AND(E7,'APCS Audit Plan'!$I$3), "Input Needed"," ") | F21: =IF(AND(F7,'APCS Audit Plan'!$I$4), "Input Needed"," ") | G21: =IF(AND(G7,'APCS Audit Plan'!$I$4), "Input Needed"," ") | H21: =IF(AND(H7,'APCS Audit Plan'!$I$4), "Input Needed"," ") | I21: =IF(AND(I7,'APCS Audit Plan'!$I$5), "Input Needed"," ") | J21: =IF(AND(J7,'APCS Audit Plan'!$I$5), "Input Needed"," ") | K21: =IF(AND(K7,'APCS Audit Plan'!$I$5), "Input Needed"," ") | L21: =IF(AND(L7,'APCS Audit Plan'!$I$6), "Input Needed"," ") | M21: =IF(AND(M7,'APCS Audit Plan'!$I$6), "Input Needed"," ") | N21: =IF(AND(N7,'APCS Audit Plan'!$I$6), "Input Needed"," ") | O21: =IF(AND(O7,'APCS Audit Plan'!$I$7), "Input Needed"," ") | P21: =IF(AND(P7,'APCS Audit Plan'!$I$7), "Input Needed"," ") | Q21: =IF(AND(Q7,'APCS Audit Plan'!$I$7), "Input Needed"," ")
B22: Incident Response (Headquarters) | C22: =IF(AND(C8,'APCS Audit Plan'!$I$3), "Input Needed"," ") | D22: =IF(AND(E8,'APCS Audit Plan'!$I$3), "Input Needed"," ") | E22: =IF(AND(E8,'APCS Audit Plan'!$I$3), "Input Needed"," ") | F22: =IF(AND(F8,'APCS Audit Plan'!$I$4), "Input Needed"," ") | G22: =IF(AND(G8,'APCS Audit Plan'!$I$4), "Input Needed"," ") | H22: =IF(AND(H8,'APCS Audit Plan'!$I$4), "Input Needed"," ") | I22: =IF(AND(I8,'APCS Audit Plan'!$I$5), "Input Needed"," ") | J22: =IF(AND(J8,'APCS Audit Plan'!$I$5), "Input Needed"," ") | K22: =IF(AND(K8,'APCS Audit Plan'!$I$5), "Input Needed"," ") | L22: =IF(AND(L8,'APCS Audit Plan'!$I$6), "Input Needed"," ") | M22: =IF(AND(M8,'APCS Audit Plan'!$I$6), "Input Needed"," ") | N22: =IF(AND(N8,'APCS Audit Plan'!$I$6), "Input Needed"," ") | O22: =IF(AND(O8,'APCS Audit Plan'!$I$7), "Input Needed"," ") | P22: =IF(AND(P8,'APCS Audit Plan'!$I$7), "Input Needed"," ") | Q22: =IF(AND(Q8,'APCS Audit Plan'!$I$7), "Input Needed"," ")
B23: Laboratory | C23: =IF(AND(C9,'APCS Audit Plan'!$I$3), "Input Needed"," ") | D23: =IF(AND(E9,'APCS Audit Plan'!$I$3), "Input Needed"," ") | E23: =IF(AND(E9,'APCS Audit Plan'!$I$3), "Input Needed"," ") | F23: =IF(AND(F9,'APCS Audit Plan'!$I$4), "Input Needed"," ") | G23: =IF(AND(G9,'APCS Audit Plan'!$I$4), "Input Needed"," ") | H23: =IF(AND(H9,'APCS Audit Plan'!$I$4), "Input Needed"," ") | I23: =IF(AND(I9,'APCS Audit Plan'!$I$5), "Input Needed"," ") | J23: =IF(AND(J9,'APCS Audit Plan'!$I$5), "Input Needed"," ") | K23: =IF(AND(K9,'APCS Audit Plan'!$I$5), "Input Needed"," ") | L23: =IF(AND(L9,'APCS Audit Plan'!$I$6), "Input Needed"," ") | M23: =IF(AND(M9,'APCS Audit Plan'!$I$6), "Input Needed"," ") | N23: =IF(AND(N9,'APCS Audit Plan'!$I$6), "Input Needed"," ") | O23: =IF(AND(O9,'APCS Audit Plan'!$I$7), "Input Needed"," ") | P23: =IF(AND(P9,'APCS Audit Plan'!$I$7), "Input Needed"," ") | Q23: =IF(AND(Q9,'APCS Audit Plan'!$I$7), "Input Needed"," ")
B24: Containment Facility | C24: =IF(AND(C10,'APCS Audit Plan'!$I$3), "Input Needed"," ") | D24: =IF(AND(E10,'APCS Audit Plan'!$I$3), "Input Needed"," ") | E24: =IF(AND(E10,'APCS Audit Plan'!$I$3), "Input Needed"," ") | F24: =IF(AND(F10,'APCS Audit Plan'!$I$4), "Input Needed"," ") | G24: =IF(AND(G10,'APCS Audit Plan'!$I$4), "Input Needed"," ") | H24: =IF(AND(H10,'APCS Audit Plan'!$I$4), "Input Needed"," ") | I24: =IF(AND(I10,'APCS Audit Plan'!$I$5), "Input Needed"," ") | J24: =IF(AND(J10,'APCS Audit Plan'!$I$5), "Input Needed"," ") | K24: =IF(AND(K10,'APCS Audit Plan'!$I$5), "Input Needed"," ") | L24: =IF(AND(L10,'APCS Audit Plan'!$I$6), "Input Needed"," ") | M24: =IF(AND(M10,'APCS Audit Plan'!$I$6), "Input Needed"," ") | N24: =IF(AND(N10,'APCS Audit Plan'!$I$6), "Input Needed"," ") | O24: =IF(AND(O10,'APCS Audit Plan'!$I$7), "Input Needed"," ") | P24: =IF(AND(P10,'APCS Audit Plan'!$I$7), "Input Needed"," ") | Q24: =IF(AND(Q10,'APCS Audit Plan'!$I$7), "Input Needed"," ")
B25: Confined Field Trials | C25: =IF(AND(C11,'APCS Audit Plan'!$I$3), "Input Needed"," ") | D25: =IF(AND(E11,'APCS Audit Plan'!$I$3), "Input Needed"," ") | E25: =IF(AND(E11,'APCS Audit Plan'!$I$3), "Input Needed"," ") | F25: =IF(AND(F11,'APCS Audit Plan'!$I$4), "Input Needed"," ") | G25: =IF(AND(G11,'APCS Audit Plan'!$I$4), "Input Needed"," ") | H25: =IF(AND(H11,'APCS Audit Plan'!$I$4), "Input Needed"," ") | I25: =IF(AND(I11,'APCS Audit Plan'!$I$5), "Input Needed"," ") | J25: =IF(AND(J11,'APCS Audit Plan'!$I$5), "Input Needed"," ") | K25: =IF(AND(K11,'APCS Audit Plan'!$I$5), "Input Needed"," ") | L25: =IF(AND(L11,'APCS Audit Plan'!$I$6), "Input Needed"," ") | M25: =IF(AND(M11,'APCS Audit Plan'!$I$6), "Input Needed"," ") | N25: =IF(AND(N11,'APCS Audit Plan'!$I$6), "Input Needed"," ") | O25: =IF(AND(O11,'APCS Audit Plan'!$I$7), "Input Needed"," ") | P25: =IF(AND(P11,'APCS Audit Plan'!$I$7), "Input Needed"," ") | Q25: =IF(AND(Q11,'APCS Audit Plan'!$I$7), "Input Needed"," ")
B26: Seed/Plant Production | C26: =IF(AND(C12,'APCS Audit Plan'!$I$3), "Input Needed"," ") | D26: =IF(AND(E12,'APCS Audit Plan'!$I$3), "Input Needed"," ") | E26: =IF(AND(E12,'APCS Audit Plan'!$I$3), "Input Needed"," ") | F26: =IF(AND(F12,'APCS Audit Plan'!$I$4), "Input Needed"," ") | G26: =IF(AND(G12,'APCS Audit Plan'!$I$4), "Input Needed"," ") | H26: =IF(AND(H12,'APCS Audit Plan'!$I$4), "Input Needed"," ") | I26: =IF(AND(I12,'APCS Audit Plan'!$I$5), "Input Needed"," ") | J26: =IF(AND(J12,'APCS Audit Plan'!$I$5), "Input Needed"," ") | K26: =IF(AND(K12,'APCS Audit Plan'!$I$5), "Input Needed"," ") | L26: =IF(AND(L12,'APCS Audit Plan'!$I$6), "Input Needed"," ") | M26: =IF(AND(M12,'APCS Audit Plan'!$I$6), "Input Needed"," ") | N26: =IF(AND(N12,'APCS Audit Plan'!$I$6), "Input Needed"," ") | O26: =IF(AND(O12,'APCS Audit Plan'!$I$7), "Input Needed"," ") | P26: =IF(AND(P12,'APCS Audit Plan'!$I$7), "Input Needed"," ") | Q26: =IF(AND(Q12,'APCS Audit Plan'!$I$7), "Input Needed"," ")
B27: Commercial Plant/Seed Distribution | C27: =IF(AND(C13,'APCS Audit Plan'!$I$3), "Input Needed"," ") | D27: =IF(AND(E13,'APCS Audit Plan'!$I$3), "Input Needed"," ") | E27: =IF(AND(E13,'APCS Audit Plan'!$I$3), "Input Needed"," ") | F27: =IF(AND(F13,'APCS Audit Plan'!$I$4), "Input Needed"," ") | G27: =IF(AND(G13,'APCS Audit Plan'!$I$4), "Input Needed"," ") | H27: =IF(AND(H13,'APCS Audit Plan'!$I$4), "Input Needed"," ") | I27: =IF(AND(I13,'APCS Audit Plan'!$I$5), "Input Needed"," ") | J27: =IF(AND(J13,'APCS Audit Plan'!$I$5), "Input Needed"," ") | K27: =IF(AND(K13,'APCS Audit Plan'!$I$5), "Input Needed"," ") | L27: =IF(AND(L13,'APCS Audit Plan'!$I$6), "Input Needed"," ") | M27: =IF(AND(M13,'APCS Audit Plan'!$I$6), "Input Needed"," ") | N27: =IF(AND(N13,'APCS Audit Plan'!$I$6), "Input Needed"," ") | O27: =IF(AND(O13,'APCS Audit Plan'!$I$7), "Input Needed"," ") | P27: =IF(AND(P13,'APCS Audit Plan'!$I$7), "Input Needed"," ") | Q27: =IF(AND(Q13,'APCS Audit Plan'!$I$7), "Input Needed"," ")
B28: Product Launch | C28: =IF(AND(C14,'APCS Audit Plan'!$I$3), "Input Needed"," ") | D28: =IF(AND(E14,'APCS Audit Plan'!$I$3), "Input Needed"," ") | E28: =IF(AND(E14,'APCS Audit Plan'!$I$3), "Input Needed"," ") | F28: =IF(AND(F14,'APCS Audit Plan'!$I$4), "Input Needed"," ") | G28: =IF(AND(G14,'APCS Audit Plan'!$I$4), "Input Needed"," ") | H28: =IF(AND(H14,'APCS Audit Plan'!$I$4), "Input Needed"," ") | I28: =IF(AND(I14,'APCS Audit Plan'!$I$5), "Input Needed"," ") | J28: =IF(AND(J14,'APCS Audit Plan'!$I$5), "Input Needed"," ") | K28: =IF(AND(K14,'APCS Audit Plan'!$I$5), "Input Needed"," ") | L28: =IF(AND(L14,'APCS Audit Plan'!$I$6), "Input Needed"," ") | M28: =IF(AND(M14,'APCS Audit Plan'!$I$6), "Input Needed"," ") | N28: =IF(AND(N14,'APCS Audit Plan'!$I$6), "Input Needed"," ") | O28: =IF(AND(O14,'APCS Audit Plan'!$I$7), "Input Needed"," ") | P28: =IF(AND(P14,'APCS Audit Plan'!$I$7), "Input Needed"," ") | Q28: =IF(AND(Q14,'APCS Audit Plan'!$I$7), "Input Needed"," ")
B29: Product Discontinuation | C29: =IF(AND(C15,'APCS Audit Plan'!$I$3), "Input Needed"," ") | D29: =IF(AND(E15,'APCS Audit Plan'!$I$3), "Input Needed"," ") | E29: =IF(AND(E15,'APCS Audit Plan'!$I$3), "Input Needed"," ") | F29: =IF(AND(F15,'APCS Audit Plan'!$I$4), "Input Needed"," ") | G29: =IF(AND(G15,'APCS Audit Plan'!$I$4), "Input Needed"," ") | H29: =IF(AND(H15,'APCS Audit Plan'!$I$4), "Input Needed"," ") | I29: =IF(AND(I15,'APCS Audit Plan'!$I$5), "Input Needed"," ") | J29: =IF(AND(J15,'APCS Audit Plan'!$I$5), "Input Needed"," ") | K29: =IF(AND(K15,'APCS Audit Plan'!$I$5), "Input Needed"," ") | L29: =IF(AND(L15,'APCS Audit Plan'!$I$6), "Input Needed"," ") | M29: =IF(AND(M15,'APCS Audit Plan'!$I$6), "Input Needed"," ") | N29: =IF(AND(N15,'APCS Audit Plan'!$I$6), "Input Needed"," ") | O29: =IF(AND(O15,'APCS Audit Plan'!$I$7), "Input Needed"," ") | P29: =IF(AND(P15,'APCS Audit Plan'!$I$7), "Input Needed"," ") | Q29: =IF(AND(Q15,'APCS Audit Plan'!$I$7), "Input Needed"," ")
B30: Resistance Management | C30: =IF(AND(C16,'APCS Audit Plan'!$I$3), "Input Needed"," ") | D30: =IF(AND(E16,'APCS Audit Plan'!$I$3), "Input Needed"," ") | E30: =IF(AND(E16,'APCS Audit Plan'!$I$3), "Input Needed"," ") | F30: =IF(AND(F16,'APCS Audit Plan'!$I$4), "Input Needed"," ") | G30: =IF(AND(G16,'APCS Audit Plan'!$I$4), "Input Needed"," ") | H30: =IF(AND(H16,'APCS Audit Plan'!$I$4), "Input Needed"," ") | I30: =IF(AND(I16,'APCS Audit Plan'!$I$5), "Input Needed"," ") | J30: =IF(AND(J16,'APCS Audit Plan'!$I$5), "Input Needed"," ") | K30: =IF(AND(K16,'APCS Audit Plan'!$I$5), "Input Needed"," ") | L30: =IF(AND(L16,'APCS Audit Plan'!$I$6), "Input Needed"," ") | M30: =IF(AND(M16,'APCS Audit Plan'!$I$6), "Input Needed"," ") | N30: =IF(AND(N16,'APCS Audit Plan'!$I$6), "Input Needed"," ") | O30: =IF(AND(O16,'APCS Audit Plan'!$I$7), "Input Needed"," ") | P30: =IF(AND(P16,'APCS Audit Plan'!$I$7), "Input Needed"," ") | Q30: =IF(AND(Q16,'APCS Audit Plan'!$I$7), "Input Needed"," ")
