Workbook

Sheet Home
B2: PBI Management Program Self-Assessment Tool (Intended for use by PBI-Only Members)
B4: Use the applicable component tabs to document systems and evidence, identify improvement opportunities, and transfer priority gaps to the Action Plan. Select a status for each applicable question. The dashboard updates automatically.
B7: Component | C7: Questions | D7: Assessed | E7: In Place | F7: Partial | G7: Not in Place | H7: Completion
B8: Baseline Assessment | C8: =COUNTA('Baseline Assessment'!B7:B7) -> 1 | D8: 0 | E8: =COUNTIF('Baseline Assessment'!D7:D7,"In Place") -> 0 | F8: =COUNTIF('Baseline Assessment'!D7:D7,"Partially in Place") -> 0 | G8: =COUNTIF('Baseline Assessment'!D7:D7,"Not in Place") -> 0 | H8: =IF(C8=0,0,D8/C8) -> 0
B9: Product Characterization | C9: =COUNTA('Product Characterization'!B7:B10) -> 4 | D9: =COUNTIF('Product Characterization'!D7:D10,"In Place")+COUNTIF('Product Characterization'!D7:D10,"Partially in Place")+COUNTIF('Product Characterization'!D7:D10,"Not in Place")+COUNTIF('Product Characterization'!D7:D10,"Not Applicable") -> 0 | E9: =COUNTIF('Product Characterization'!D7:D10,"In Place") -> 0 | F9: =COUNTIF('Product Characterization'!D7:D10,"Partially in Place") -> 0 | G9: =COUNTIF('Product Characterization'!D7:D10,"Not in Place") -> 0 | H9: =IF(C9=0,0,D9/C9) -> 0
B10: Regulatory Environment | C10: =COUNTA('Regulatory Environment'!B7:B8) -> 2 | D10: 0 | E10: =COUNTIF('Regulatory Environment'!D7:D8,"In Place") -> 0 | F10: =COUNTIF('Regulatory Environment'!D7:D8,"Partially in Place") -> 0 | G10: =COUNTIF('Regulatory Environment'!D7:D8,"Not in Place") -> 0 | H10: =IF(C10=0,0,D10/C10) -> 0
B11: Stakeholder Engagement | C11: =COUNTA('Stakeholder Engagement'!B7:B12) -> 6 | D11: =COUNTIF('Stakeholder Engagement'!D7:D12,"In Place")+COUNTIF('Stakeholder Engagement'!D7:D12,"Partially in Place")+COUNTIF('Stakeholder Engagement'!D7:D12,"Not in Place")+COUNTIF('Stakeholder Engagement'!D7:D12,"Not Applicable") -> 0 | E11: =COUNTIF('Stakeholder Engagement'!D7:D12,"In Place") -> 0 | F11: =COUNTIF('Stakeholder Engagement'!D7:D12,"Partially in Place") -> 0 | G11: =COUNTIF('Stakeholder Engagement'!D7:D12,"Not in Place") -> 0 | H11: =IF(C11=0,0,D11/C11) -> 0
B12: Stewardship QMS MPPI | C12: =COUNTA('Stewardship QMS MPPI'!B7:B39) -> 33 | D12: 0 | E12: =COUNTIF('Stewardship QMS MPPI'!D7:D39,"In Place") -> 0 | F12: =COUNTIF('Stewardship QMS MPPI'!D7:D39,"Partially in Place") -> 0 | G12: =COUNTIF('Stewardship QMS MPPI'!D7:D39,"Not in Place") -> 0 | H12: =IF(C12=0,0,D12/C12) -> 0
B13: Overall | C13: =SUM(C8:C12) -> 46 | D13: =SUM(D8:D12) -> 0 | E13: =SUM(E8:E12) -> 0 | F13: =SUM(F8:F12) -> 0 | G13: =SUM(G8:G12) -> 0 | H13: =IF(C13=0,0,D13/C13) -> 0
B16: Status definitions: Assessed = evaluated; In Place = documented and implemented; Partially in Place = incomplete or inconsistently implemented; Not in Place = absent; Not Applicable = outside organizational scope.

Sheet Baseline Assessment
B2: Baseline Assessment | G2: Based on PBI Baseline Audit Checklist
B4: Self-Assessment Date: | D4: Site / Organization: | G4: Assessor: | I4: Participant Type:
B6: Questions / Instructions | C6: Objective Evidence | D6: Assessment Status | E6: Responsible Party | F6: Brief Description of Method | G6: Evidence the Method Is Followed | H6: Areas for Improvement | I6: Priority | J6: Action Plan Reference
B7: 1. Describe the process to complete the PBI MP Baseline Assessment outlined in the Guide for Conditional Components Section as applicable (this does not have to be a separate process but may be fulfilled through other processes around market and trade considerations, stakeholder identification and regulatory planning). | C7: Assessment Policies Process Maps SOPS Other
B9: Component Summary | D9: Record the principal strengths, gaps, and follow-up needs identified during this self-assessment.

Sheet Product Characterization
B2: Product Characterization | G2: Based on PBI Product Characterization Audit Checklist
B4: Self-Assessment Date: | D4: Site / Organization: | G4: Assessor: | I4: Participant Type:
B6: Questions / Instructions | C6: Objective Evidence | D6: Assessment Status | E6: Responsible Party | F6: Brief Description of Method | G6: Evidence the Method Is Followed | H6: Areas for Improvement | I6: Priority | J6: Action Plan Reference
B7: 1. Describe the process in place to confirm plant identity. | C7: Labels Cross Referenced Against Inventory SOPs Work Instructions Other
B8: 2. Describe the process for design criteria for genome editing reagents. | C8: SOPs Work Instructions Records Demonstration Other
B9: 3. Describe the process and method to verify absence of unintended vectorderived sequences, as applicable. | C9: SOPs Work Instructions Records Demonstration Other
B10: 4. Describe the process to confirm the intended genetic changes. | C10: SOPs Work Instructions Documentation Confirming Identity Lab Test Records Confirming Identity Other
B12: Component Summary | D12: Record the principal strengths, gaps, and follow-up needs identified during this self-assessment.

Sheet Regulatory Environment
B2: Regulatory Environment | G2: Based on PBI Regulatory Environment Audit Checklist
B4: Self-Assessment Date: | D4: Site / Organization: | G4: Assessor: | I4: Participant Type:
B6: Questions / Instructions | C6: Objective Evidence | D6: Assessment Status | E6: Responsible Party | F6: Brief Description of Method | G6: Evidence the Method Is Followed | H6: Areas for Improvement | I6: Priority | J6: Action Plan Reference
B7: 1. Describe the process to develop, implement, and communicate a regulatory compliance plan to ensure the material is controlled. . | C7: Policies Process Maps SOPs Compliance Plans Other
B8: 2. Describe the process to identify and implement activities needed to comply with applicable regulatory requirements (i.e., securing regulatory FTO in applicable countries). | C8: Policies Process Maps SOPs Compliance Plans Other
B10: Component Summary | D10: Record the principal strengths, gaps, and follow-up needs identified during this self-assessment.

Sheet Stakeholder Engagement
B2: Stakeholder Engagement | G2: Based on PBI Stakeholder Engagement Audit Checklist
B4: Self-Assessment Date: | D4: Site / Organization: | G4: Assessor: | I4: Participant Type:
B6: Questions / Instructions | C6: Objective Evidence | D6: Assessment Status | E6: Responsible Party | F6: Brief Description of Method | G6: Evidence the Method Is Followed | H6: Areas for Improvement | I6: Priority | J6: Action Plan Reference
B7: 1. Describe the process to develop, implement, and communicate a stakeholder transparency and engagement plan. | C7: Policies Process Maps SOPs Communication Plan Stakeholder Mapping Website Other
B8: 2. Describe the process to determine who the key stakeholders are and who needs to be aware of the specific characteristics of the product. Include stakeholders identified during the Market and Trade Analysis (MTA) process. | C8: Policies Process Maps SOPs Communication Plan Stakeholder Mapping Website Other
B9: 3. Describe the process to ensure communication of the product to market on an available and accessible platform. | C9: Policies Process Maps SOPs Communication Plan Website Other
B10: 4. Describe specific activities and tactics to engage stakeholders. This could include public consultations, industry meetings, social media campaigns. | C10: Policies SOPs Meeting Notes Communication Plan Other Website / Social Media
B11: 5. Describe the process to provide opportunities for stakeholder input. | C11: Policies Process Maps SOPs Communication Plan Website Feedback Process Other
B12: 6. Describe the process to evaluate the effectiveness of the engagement plan and to make improvements as needed. | C12: Policies Process Maps SOPs Communication Plan Website Feedback Process Other
B14: Component Summary | D14: Record the principal strengths, gaps, and follow-up needs identified during this self-assessment.

Sheet Stewardship QMS MPPI
B2: Stewardship QMS MPPI | G2: Based on PBI Stewardship/QMS/MPPI Audit Checklist
B4: Self-Assessment Date: | D4: Site / Organization: | G4: Assessor: | I4: Participant Type:
B6: Questions / Instructions | C6: Objective Evidence | D6: Assessment Status | E6: Responsible Party | F6: Brief Description of Method | G6: Evidence the Method Is Followed | H6: Areas for Improvement | I6: Priority | J6: Action Plan Reference
B7: 1. Describe the overall stewardship program for PBI products across the product life cycle. Include integration with quality management systems if applicable. | C7: Policies Process Maps SOPs Organization Chart Website Other
B8: 2. Describe the management structure accountable for product stewardship programs. | C8: Organization Chart Role Description Other
B9: 3. Describe the process for establishing and maintaining awareness and training internal and external stakeholders on biotechnology-derived product stewardship programs. | C9: Training Program Verbal Evidence Website Communication Materials Communication Plan Training Records Other
B10: 4.a Developer and/or Licensor: Describe the process to include stewardship and quality management requirements in contracts and licensing agreements. | C10: Contractual Terms SOPs Policies Other
B11: 4.b Licensee: Describe the process for reviewing and communicating stewardship and quality management requirements in contracts and licensing agreements to employees. | C11: Contractual Terms SOPs Policies Communication Plan Training
B12: 5. Describe the process to conduct system reviews of the stewardship program at key milestones throughout the product life cycle for PBI products. | C12: Audit Process(es) Audit Records Critical Control Points Implementation Plan Management Reviews QC Test Results Self Assessments SOPs Other
B13: 6. Describe the Incident Response process(es). | C13: Process Map SOPs Website Other
B14: 7. Describe the process for training appropriate individuals on the Incident Response process(es). | C14: Training Program Verbal Evidence Website Other
B15: 8. Describe the quality management process(es) or system relevant to maintaining plant product integrity. | C15: SOPs Quality Manual ISO 9001 Certification GLP-Compliant Verbal Evidence Other
B16: 9. Describe the process to manage and control quality system documentation relevant to plant product integrity. | C16: SOPs Document Management Policy Records Management Policy Verbal Evidence Other
B17: 10. Describe the process for preventing or identifying and correcting nonconformity(ies) and taking action(s) to maintain plant product integrity. | C17: Quality Manual SOPs Work Instructions Quality Management Review Verbal Evidence Records Other
B18: 11. Describe the management structure, organizational infrastructure and resource allocation that enables the quality management system relevant to plant product integrity. | C18: Organnization Chart Job Descriptions Verbal Evidence Other
... B39: 32. Describe the process to receive and control returned materials. | C39: SOPs Work Instructions Records Other
B41: Component Summary | D41: Record the principal strengths, gaps, and follow-up needs identified during this self-assessment.

Sheet Action Plan
B2: PBI Management Program Action Plan
B3: Use this log to assign and track actions arising from the component self-assessments.
B5: Module | C5: Identified Gap | D5: Action to Close Gap | E5: Accountable | F5: Target Date | G5: Status | H5: Completion Notes
